BEGIN:VCALENDAR
VERSION:2.0
PRODID:-//Traction Marketing - ECPv6.15.15//NONSGML v1.0//EN
CALSCALE:GREGORIAN
METHOD:PUBLISH
X-WR-CALNAME:Traction Marketing
X-ORIGINAL-URL:https://tractionmarketing.com.au
X-WR-CALDESC:Events for Traction Marketing
REFRESH-INTERVAL;VALUE=DURATION:PT1H
X-Robots-Tag:noindex
X-PUBLISHED-TTL:PT1H
BEGIN:VTIMEZONE
TZID:UTC
BEGIN:STANDARD
TZOFFSETFROM:+0000
TZOFFSETTO:+0000
TZNAME:UTC
DTSTART:20250101T000000
END:STANDARD
END:VTIMEZONE
BEGIN:VEVENT
DTSTART;TZID=UTC:20260506T080000
DTEND;TZID=UTC:20260506T170000
DTSTAMP:20260423T085021
CREATED:20250831T160858Z
LAST-MODIFIED:20250831T160858Z
UID:2525-1778054400-1778086800@tractionmarketing.com.au
SUMMARY:Seasonal Launch Party
DESCRIPTION:
URL:https://tractionmarketing.com.au/event/seasonal-launch-party/
LOCATION:Online and Offline\, 123 Main Street\, New York\, United States
ATTACH;FMTTYPE=image/webp:https://tractionmarketing.com.au/wp/wp-content/uploads/2025/08/placeholder-23.webp
END:VEVENT
BEGIN:VEVENT
DTSTART;TZID=UTC:20260506T080000
DTEND;TZID=UTC:20260506T170000
DTSTAMP:20260423T085021
CREATED:20250831T160858Z
LAST-MODIFIED:20250831T160858Z
UID:4753-1778054400-1778086800@tractionmarketing.com.au
SUMMARY:Seasonal Launch Party
DESCRIPTION:
URL:https://tractionmarketing.com.au/event/seasonal-launch-party-2/
LOCATION:Online and Offline\, 123 Main Street\, New York\, United States
ATTACH;FMTTYPE=image/webp:https://tractionmarketing.com.au/wp/wp-content/uploads/2025/08/placeholder-23.webp
END:VEVENT
BEGIN:VEVENT
DTSTART;TZID=UTC:20260510T080000
DTEND;TZID=UTC:20260510T170000
DTSTAMP:20260423T085021
CREATED:20250831T162528Z
LAST-MODIFIED:20250831T162528Z
UID:2540-1778400000-1778432400@tractionmarketing.com.au
SUMMARY:A limited-time sale offering significant discounts
DESCRIPTION:
URL:https://tractionmarketing.com.au/event/a-limited-time-sale-offering-significant-discounts/
LOCATION:Online and Offline\, 123 Main Street\, New York\, United States
ATTACH;FMTTYPE=image/webp:https://tractionmarketing.com.au/wp/wp-content/uploads/2025/08/placeholder-25.webp
END:VEVENT
BEGIN:VEVENT
DTSTART;TZID=UTC:20260510T080000
DTEND;TZID=UTC:20260510T170000
DTSTAMP:20260423T085021
CREATED:20250831T162528Z
LAST-MODIFIED:20250831T162528Z
UID:4755-1778400000-1778432400@tractionmarketing.com.au
SUMMARY:A limited-time sale offering significant discounts
DESCRIPTION:
URL:https://tractionmarketing.com.au/event/a-limited-time-sale-offering-significant-discounts-2/
LOCATION:Online and Offline\, 123 Main Street\, New York\, United States
ATTACH;FMTTYPE=image/webp:https://tractionmarketing.com.au/wp/wp-content/uploads/2025/08/placeholder-25.webp
END:VEVENT
BEGIN:VEVENT
DTSTART;TZID=UTC:20260718T000000
DTEND;TZID=UTC:20260718T235900
DTSTAMP:20260423T085021
CREATED:20250831T160024Z
LAST-MODIFIED:20250831T160024Z
UID:2512-1784332800-1784419140@tractionmarketing.com.au
SUMMARY:Inspire & Network: An Evening of Connections
DESCRIPTION:
URL:https://tractionmarketing.com.au/event/inspire-network-an-evening-of-connections/
LOCATION:Meeting\, Main Street\, New York\, United States
ATTACH;FMTTYPE=image/webp:https://tractionmarketing.com.au/wp/wp-content/uploads/2025/08/placeholder-21.webp
END:VEVENT
BEGIN:VEVENT
DTSTART;TZID=UTC:20260718T000000
DTEND;TZID=UTC:20260718T235900
DTSTAMP:20260423T085021
CREATED:20250831T160024Z
LAST-MODIFIED:20250831T160024Z
UID:4751-1784332800-1784419140@tractionmarketing.com.au
SUMMARY:Inspire & Network: An Evening of Connections
DESCRIPTION:
URL:https://tractionmarketing.com.au/event/inspire-network-an-evening-of-connections-2/
LOCATION:Meeting\, Main Street\, New York\, United States
ATTACH;FMTTYPE=image/webp:https://tractionmarketing.com.au/wp/wp-content/uploads/2025/08/placeholder-21.webp
END:VEVENT
BEGIN:VEVENT
DTSTART;TZID=UTC:20260801T080000
DTEND;TZID=UTC:20260801T170000
DTSTAMP:20260423T085021
CREATED:20250831T155550Z
LAST-MODIFIED:20250831T155550Z
UID:2505-1785571200-1785603600@tractionmarketing.com.au
SUMMARY:Social Media Mastery Workshop
DESCRIPTION:
URL:https://tractionmarketing.com.au/event/social-media-mastery-workshop/
LOCATION:Online\, YouTube\, Online
ATTACH;FMTTYPE=image/webp:https://tractionmarketing.com.au/wp/wp-content/uploads/2025/08/placeholder-26.webp
END:VEVENT
BEGIN:VEVENT
DTSTART;TZID=UTC:20260801T080000
DTEND;TZID=UTC:20260801T170000
DTSTAMP:20260423T085021
CREATED:20250831T155550Z
LAST-MODIFIED:20250831T155550Z
UID:4750-1785571200-1785603600@tractionmarketing.com.au
SUMMARY:Social Media Mastery Workshop
DESCRIPTION:
URL:https://tractionmarketing.com.au/event/social-media-mastery-workshop-2/
LOCATION:Online\, YouTube\, Online
ATTACH;FMTTYPE=image/webp:https://tractionmarketing.com.au/wp/wp-content/uploads/2025/08/placeholder-26.webp
END:VEVENT
BEGIN:VEVENT
DTSTART;TZID=UTC:20261004T080000
DTEND;TZID=UTC:20261004T170000
DTSTAMP:20260423T085021
CREATED:20250831T160428Z
LAST-MODIFIED:20250831T160428Z
UID:2515-1791100800-1791133200@tractionmarketing.com.au
SUMMARY:Social Media Strategists: International Networking Forum
DESCRIPTION:
URL:https://tractionmarketing.com.au/event/social-media-strategists-international-networking-forum/
LOCATION:Online and Offline\, 123 Main Street\, New York\, United States
ATTACH;FMTTYPE=image/webp:https://tractionmarketing.com.au/wp/wp-content/uploads/2025/08/Image-boxes-1.webp
END:VEVENT
BEGIN:VEVENT
DTSTART;TZID=UTC:20261004T080000
DTEND;TZID=UTC:20261004T170000
DTSTAMP:20260423T085021
CREATED:20250831T160428Z
LAST-MODIFIED:20250831T160428Z
UID:4752-1791100800-1791133200@tractionmarketing.com.au
SUMMARY:Social Media Strategists: International Networking Forum
DESCRIPTION:
URL:https://tractionmarketing.com.au/event/social-media-strategists-international-networking-forum-2/
LOCATION:Online and Offline\, 123 Main Street\, New York\, United States
ATTACH;FMTTYPE=image/webp:https://tractionmarketing.com.au/wp/wp-content/uploads/2025/08/Image-boxes-1.webp
END:VEVENT
END:VCALENDAR